BEGIN:VCALENDAR
VERSION:2.0
PRODID:icalendar-ruby
CALSCALE:GREGORIAN
METHOD:PUBLISH
BEGIN:VEVENT
DTSTAMP:20260421T100719Z
UID:25-435591@fumcnebcity.org
DTSTART:20260513T220000Z
DTEND:20260513T230000Z
CLASS:PUBLIC
CREATED:20260130T115746
DESCRIPTION:These meals are open for all in the community. \nVolunteer opp
 ortunities are available.\n\nplanning the meal\nserving\nbring a salad\nbr
 ing a dessert\n
LAST-MODIFIED:20260130T115746
LOCATION:Gage Hall
SUMMARY:Wednesday Night Meal
URL;VALUE=URI:https://www.fumcnebcity.org/events/wednesday-night-meal/2026-
 05-13
ATTACH;FILENAME=Photo-Mar-08-2023%2C-5-44-03-PM-%281%29-%281%29-%281%29.jpg
 ;FMTTYPE=image/jpeg:https://dq5pwpg1q8ru0.cloudfront.net/2025/11/19/17/22/
 39/db2ad5be-b8a0-43d4-9138-048a810d299e/Photo-Mar-08-2023%252C-5-44-03-PM-
 %25281%2529-%25281%2529-%25281%2529.jpg
END:VEVENT
END:VCALENDAR
